BEGIN:VCALENDAR
VERSION:2.0
PRODID:-//Buren van de Abdij - ECPv6.15.20//NONSGML v1.0//EN
CALSCALE:GREGORIAN
METHOD:PUBLISH
X-WR-CALNAME:Buren van de Abdij
X-ORIGINAL-URL:https://www.burenvandeabdij.be
X-WR-CALDESC:Evenementen voor Buren van de Abdij
REFRESH-INTERVAL;VALUE=DURATION:PT1H
X-Robots-Tag:noindex
X-PUBLISHED-TTL:PT1H
BEGIN:VTIMEZONE
TZID:Europe/Brussels
BEGIN:DAYLIGHT
TZOFFSETFROM:+0100
TZOFFSETTO:+0200
TZNAME:CEST
DTSTART:20250330T010000
END:DAYLIGHT
BEGIN:STANDARD
TZOFFSETFROM:+0200
TZOFFSETTO:+0100
TZNAME:CET
DTSTART:20251026T010000
END:STANDARD
BEGIN:DAYLIGHT
TZOFFSETFROM:+0100
TZOFFSETTO:+0200
TZNAME:CEST
DTSTART:20260329T010000
END:DAYLIGHT
BEGIN:STANDARD
TZOFFSETFROM:+0200
TZOFFSETTO:+0100
TZNAME:CET
DTSTART:20261025T010000
END:STANDARD
BEGIN:DAYLIGHT
TZOFFSETFROM:+0100
TZOFFSETTO:+0200
TZNAME:CEST
DTSTART:20270328T010000
END:DAYLIGHT
BEGIN:STANDARD
TZOFFSETFROM:+0200
TZOFFSETTO:+0100
TZNAME:CET
DTSTART:20271031T010000
END:STANDARD
END:VTIMEZONE
BEGIN:VEVENT
DTSTART;TZID=Europe/Brussels:20260421T183000
DTEND;TZID=Europe/Brussels:20260421T213000
DTSTAMP:20260421T153902
CREATED:20260107T153811Z
LAST-MODIFIED:20260222T233009Z
UID:18097-1776796200-1776807000@www.burenvandeabdij.be
SUMMARY:Open tekensessie met model #72
DESCRIPTION:De open tekensessies in Herberg Macharius. Geen tekenles\, maar gewoon een avondje tekenen. Dat is het idee achter deze open modelsessie in de herberg. Iedereen is welkom\, of je nu ervaring hebt of niet. \nTekenen\, dat kan ook buiten de academie\, toch? Deze modelsessie staat open voor iedereen die graag iets op papier zet\, zowel de kunstenaars uit de buurt als zij die voor het eerst hun oude potloden uit de kast halen. Er wordt geen les gegeven\, je gaat gewoon zelf aan de slag. Breng zelf papier (best niet groter dan A2-formaat) en tekenmateriaal mee\, voor de rest zorgen wij. Ons model poseert afwisselend in korte en iets langere poses\, met een pauze en een drankje halfweg de avond. \nDe toegang is gratis\, we vragen enkel een vrije bijdrage voor het model.
URL:https://www.burenvandeabdij.be/kalender/open-tekensessie-met-model-11/
LOCATION:Herberg Macharius\, Coyendanspark 1\, 9000 Gent
CATEGORIES:Creatief,Herberg Macharius,Kunst,Open tekensessie
ATTACH;FMTTYPE=image/png:https://www.burenvandeabdij.be/wp-content/uploads/2025/12/2026_banner_open_tekensessie.png
END:VEVENT
END:VCALENDAR